BEGIN:VCALENDAR
PRODID:-//eluceo/ical//2.0/EN
VERSION:2.0
CALSCALE:GREGORIAN
BEGIN:VEVENT
UID:1d5f9be48a5fa2a54d5e0a07f1d7319a
DTSTAMP:20260423T182324Z
SUMMARY:JFS Yearn2Learn - "Virtual Tour of India: Yadien"
DESCRIPTION:Jewish Federation of West-Central New Jersey\nCommunity Calenda
 r\nhttps://jfedwcnj.org/calendar/jfs-yearn2learn---virtual-tour-of-india-y
 adien-1460990746\n\nJFS Yearn2Learn - &quot\;Virtual Tour of India: Yadien
 &quot\;
DTSTART;TZID=America/New_York:20160510T130000
DTEND;TZID=America/New_York:20160510T143000
END:VEVENT
END:VCALENDAR
