BEGIN:VCALENDAR
PRODID:-//eluceo/ical//2.0/EN
VERSION:2.0
CALSCALE:GREGORIAN
BEGIN:VEVENT
UID:18f5057f2a66d97023df204f51f6b5e7
DTSTAMP:20260423T093530Z
SUMMARY:JFS Yearn2Learn - "The Spiritual You"
DESCRIPTION:Jewish Federation of West-Central New Jersey\nCommunity Calenda
 r\nhttps://jfedwcnj.org/calendar/jfs-yearn2learn---the-spiritual-you-14561
 66187\n\nJFS Yearn2Learn - &quot\;The Spiritual You&quot\;
DTSTART;TZID=America/New_York:20160503T130000
DTEND;TZID=America/New_York:20160503T143000
END:VEVENT
END:VCALENDAR
