BEGIN:VCALENDAR
PRODID:-//eluceo/ical//2.0/EN
VERSION:2.0
CALSCALE:GREGORIAN
BEGIN:VEVENT
UID:ee7eeeaf4e8f491f978b51108d9b6be9
DTSTAMP:20260422T110504Z
SUMMARY:JFS Yearn2Learn - "The Spiritual You"
DESCRIPTION:Jewish Federation of West-Central New Jersey\nCommunity Calenda
 r\nhttps://jfedwcnj.org/calendar/jfs-yearn2learn---the-spiritual-you-14561
 66075\n\nJFS Yearn2Learn - &quot\;The Spiritual You
DTSTART;TZID=America/New_York:20160419T130000
DTEND;TZID=America/New_York:20160419T143000
END:VEVENT
END:VCALENDAR
