BEGIN:VCALENDAR
PRODID:-//eluceo/ical//2.0/EN
VERSION:2.0
CALSCALE:GREGORIAN
BEGIN:VEVENT
UID:72033648eba74e5dfea47f6825c1e419
DTSTAMP:20260422T213515Z
SUMMARY:JFS Yearn2Learn - "The Spiritual You"
DESCRIPTION:Jewish Federation of West-Central New Jersey\nCommunity Calenda
 r\nhttps://jfedwcnj.org/calendar/jfs-yearn2learn---the-spiritual-you-14561
 65780\n\nJFS Yearn2Learn - &quot\;The Spiritual You&quot\;
DTSTART;TZID=America/New_York:20160405T130000
DTEND;TZID=America/New_York:20160405T143000
END:VEVENT
END:VCALENDAR
