BEGIN:VCALENDAR
PRODID:-//eluceo/ical//2.0/EN
VERSION:2.0
CALSCALE:GREGORIAN
BEGIN:VEVENT
UID:4999cfaf280ad34b08cf42a7f354ebc3
DTSTAMP:20260422T003049Z
SUMMARY:JFS Yearn2Learn - "The Rolling Ring"
DESCRIPTION:Jewish Federation of West-Central New Jersey\nCommunity Calenda
 r\nhttps://jfedwcnj.org/calendar/jfs-yearn2learn---the-rolling-ring-144292
 9421\n\nJFS Yearn2Learn - &quot\;The Rolling Ring&quot\;
DTSTART;TZID=America/New_York:20151001T130000
DTEND;TZID=America/New_York:20151001T143000
END:VEVENT
END:VCALENDAR
