BEGIN:VCALENDAR
PRODID:-//eluceo/ical//2.0/EN
VERSION:2.0
CALSCALE:GREGORIAN
BEGIN:VEVENT
UID:32665cae3fffa65827a5db8b7846ac26
DTSTAMP:20260423T192751Z
SUMMARY:JFS Yearn2Learn - "The Refugee Question"
DESCRIPTION:Jewish Federation of West-Central New Jersey\nCommunity Calenda
 r\nhttps://jfedwcnj.org/calendar/jfs-yearn2learn---the-refugee-question-14
 56159405\n\nJFS Yearn2Learn - &quot\;The Refugee Question&quot\;
DTSTART;TZID=America/New_York:20160309T130000
DTEND;TZID=America/New_York:20160309T143000
END:VEVENT
END:VCALENDAR
