BEGIN:VCALENDAR
PRODID:-//eluceo/ical//2.0/EN
VERSION:2.0
CALSCALE:GREGORIAN
BEGIN:VEVENT
UID:c67c117138071d37b73786e52b496b19
DTSTAMP:20260422T105813Z
SUMMARY:JFS Yearn2Learn - "The Next Chapter"
DESCRIPTION:Jewish Federation of West-Central New Jersey\nCommunity Calenda
 r\nhttps://jfedwcnj.org/calendar/jfs-yearn2learn---the-next-chapter-144588
 3226\n\nJFS Yearn2Learn - &quot\;The Next Chapter&quot\;
DTSTART;TZID=America/New_York:20151119T130000
DTEND;TZID=America/New_York:20151119T143000
END:VEVENT
END:VCALENDAR
