BEGIN:VCALENDAR
PRODID:-//eluceo/ical//2.0/EN
VERSION:2.0
CALSCALE:GREGORIAN
BEGIN:VEVENT
UID:9379be84f6a545c27616f5cc842ed95c
DTSTAMP:20260421T170327Z
SUMMARY:JFS Yearn2Learn - "Rogers and Hammerstein: The Golden Age of Theate
 r"
DESCRIPTION:Jewish Federation of West-Central New Jersey\nCommunity Calenda
 r\nhttps://jfedwcnj.org/calendar/jfs-yearn2learn---rogers-and-hammerstein-
 the-golden-age-of-theater-1452534515\n\nJFS Yearn2Learn - &quot\;Rogers an
 d Hammerstein: The Golden Age of the American Musical Theater&quot\;
DTSTART;TZID=America/New_York:20160216T130000
DTEND;TZID=America/New_York:20160216T150000
END:VEVENT
END:VCALENDAR
