BEGIN:VCALENDAR
PRODID:-//eluceo/ical//2.0/EN
VERSION:2.0
CALSCALE:GREGORIAN
BEGIN:VEVENT
UID:dd9cff8947cee1479d4c1384ba7d6488
DTSTAMP:20260421T164438Z
SUMMARY:JFS Yearn2Learn - "Jewish Magic"
DESCRIPTION:Jewish Federation of West-Central New Jersey\nCommunity Calenda
 r\nhttps://jfedwcnj.org/calendar/jfs-yearn2learn---jewish-magic-1445883109
 \n\nJFS Yearn2Learn - &quot\;Jewish Magic&quot\;
DTSTART;TZID=America/New_York:20151112T130000
DTEND;TZID=America/New_York:20151112T143000
END:VEVENT
END:VCALENDAR
