BEGIN:VCALENDAR
PRODID:-//eluceo/ical//2.0/EN
VERSION:2.0
CALSCALE:GREGORIAN
BEGIN:VEVENT
UID:132a27361004d83e82f50073b99fed68
DTSTAMP:20260423T014226Z
SUMMARY:JFS Yearn2Learn - "Is Madonna's Kabbalah teh Real Kabbalah?"
DESCRIPTION:Jewish Federation of West-Central New Jersey\nCommunity Calenda
 r\nhttps://jfedwcnj.org/calendar/jfs-yearn2learn---is-madonnas-kabbalah-te
 h-real-kabbalah-1456159577\n\nJFS Yearn2Learn - &quot\;Is Madonna&#039\;s 
 Kabbalah teh Real Kabbalah?&quot\;
DTSTART;TZID=America/New_York:20160322T130000
DTEND;TZID=America/New_York:20160322T143000
END:VEVENT
END:VCALENDAR
