BEGIN:VCALENDAR
PRODID:-//eluceo/ical//2.0/EN
VERSION:2.0
CALSCALE:GREGORIAN
BEGIN:VEVENT
UID:ca1a54b91cc75e68249d99095569f692
DTSTAMP:20260424T092856Z
SUMMARY:JFS Yearn2Learn - "Every Tallit Tells a Tale"
DESCRIPTION:Jewish Federation of West-Central New Jersey\nCommunity Calenda
 r\nhttps://jfedwcnj.org/calendar/jfs-yearn2learn---every-tallit-tells-a-ta
 le-1447085420\n\nJFS Yearn2Learn - &quot\;Every Tallit Tells a Tale&quot\;
DTSTART;TZID=America/New_York:20151210T130000
DTEND;TZID=America/New_York:20151210T143000
END:VEVENT
END:VCALENDAR
