BEGIN:VCALENDAR
PRODID:-//eluceo/ical//2.0/EN
VERSION:2.0
CALSCALE:GREGORIAN
BEGIN:VEVENT
UID:eea625c0f4ef095cc3257f973d7ccf79
DTSTAMP:20260422T093333Z
SUMMARY:JFS Women's Workshop
DESCRIPTION:Jewish Federation of West-Central New Jersey\nCommunity Calenda
 r\nhttps://jfedwcnj.org/calendar/jfs-womens-workshop-1555436488\n\nJFS Wom
 en's Workshop
DTSTART;TZID=America/New_York:20190510T100000
DTEND;TZID=America/New_York:20190510T120000
END:VEVENT
END:VCALENDAR
