BEGIN:VCALENDAR
PRODID:-//eluceo/ical//2.0/EN
VERSION:2.0
CALSCALE:GREGORIAN
BEGIN:VEVENT
UID:4a3c4032ca17ac3b1f5792ba43dbff92
DTSTAMP:20260423T184251Z
SUMMARY:JFS Women's Symposium
DESCRIPTION:Jewish Federation of West-Central New Jersey\nCommunity Calenda
 r\nhttps://jfedwcnj.org/calendar/jfs-womens-symposium-1469637786\n\nJFS Wo
 men&#039\;s Symposium
DTSTART;TZID=America/New_York:20170430T100000
DTEND;TZID=America/New_York:20170430T150000
END:VEVENT
END:VCALENDAR
