BEGIN:VCALENDAR
PRODID:-//eluceo/ical//2.0/EN
VERSION:2.0
CALSCALE:GREGORIAN
BEGIN:VEVENT
UID:c66094d47bcfa61a832b062669343fa7
DTSTAMP:20260422T152724Z
SUMMARY:JFS Spring Symposium 2020
DESCRIPTION:Jewish Federation of West-Central New Jersey\nCommunity Calenda
 r\nhttps://jfedwcnj.org/calendar/jfs-spring-symposium-2020\n\nJFS Spring S
 ymposium
DTSTART;TZID=America/New_York:20200419T100000
DTEND;TZID=America/New_York:20200419T120000
END:VEVENT
END:VCALENDAR
