BEGIN:VCALENDAR
PRODID:-//eluceo/ical//2.0/EN
VERSION:2.0
CALSCALE:GREGORIAN
BEGIN:VEVENT
UID:6f7cd816ac6fa196f86850e824d25d14
DTSTAMP:20260421T204109Z
SUMMARY:JFS Spring Symposium
DESCRIPTION:Jewish Federation of West-Central New Jersey\nCommunity Calenda
 r\nhttps://jfedwcnj.org/calendar/jfs-spring-symposium-1611584860\n\nJFS Sp
 ring Symposium
DTSTART;TZID=America/New_York:20210425T190000
DTEND;TZID=America/New_York:20210425T210000
END:VEVENT
END:VCALENDAR
