BEGIN:VCALENDAR
PRODID:-//eluceo/ical//2.0/EN
VERSION:2.0
CALSCALE:GREGORIAN
BEGIN:VEVENT
UID:b9eb985abcf2e82885278c729f53ee7e
DTSTAMP:20260421T212615Z
SUMMARY:JFS Spring Symposium
DESCRIPTION:Jewish Federation of West-Central New Jersey\nCommunity Calenda
 r\nhttps://jfedwcnj.org/calendar/jfs-spring-symposium-1538582975\n\nJFS Sp
 ring Symposium\,
DTSTART;TZID=America/New_York:20190428T103000
DTEND;TZID=America/New_York:20190428T123000
END:VEVENT
END:VCALENDAR
