BEGIN:VCALENDAR
PRODID:-//eluceo/ical//2.0/EN
VERSION:2.0
CALSCALE:GREGORIAN
BEGIN:VEVENT
UID:63c44494814a1afcb78069af4a8c8368
DTSTAMP:20260423T111320Z
SUMMARY:JFS Soup for the Soul
DESCRIPTION:Jewish Federation of West-Central New Jersey\nCommunity Calenda
 r\nhttps://jfedwcnj.org/calendar/jfs-soup-for-the-soul-1596728873\n\nJFS S
 oup for the Soul
DTSTART;TZID=America/New_York:20201122T180000
DTEND;TZID=America/New_York:20201122T200000
END:VEVENT
END:VCALENDAR
