BEGIN:VCALENDAR
PRODID:-//eluceo/ical//2.0/EN
VERSION:2.0
CALSCALE:GREGORIAN
BEGIN:VEVENT
UID:3fe1519be0375de80bed59c26fbb58df
DTSTAMP:20260423T050742Z
SUMMARY:JFS Soup for the Soul
DESCRIPTION:Jewish Federation of West-Central New Jersey\nCommunity Calenda
 r\nhttps://jfedwcnj.org/calendar/jfs-soup-for-the-soul-1563296092\n\nJFS S
 oup for the Soul
DTSTART;TZID=America/New_York:20191117T170000
DTEND;TZID=America/New_York:20191117T190000
END:VEVENT
END:VCALENDAR
