BEGIN:VCALENDAR
PRODID:-//eluceo/ical//2.0/EN
VERSION:2.0
CALSCALE:GREGORIAN
BEGIN:VEVENT
UID:d1dbefccbff3005d7ee83a6e0009b370
DTSTAMP:20260422T093615Z
SUMMARY:JFS Soup for the Soul
DESCRIPTION:Jewish Federation of West-Central New Jersey\nCommunity Calenda
 r\nhttps://jfedwcnj.org/calendar/jfs-soup-for-the-soul-1536074073\n\nJFS S
 oup for the Soul
DTSTART;TZID=America/New_York:20181118T170000
DTEND;TZID=America/New_York:20181118T190000
END:VEVENT
END:VCALENDAR
