BEGIN:VCALENDAR
PRODID:-//eluceo/ical//2.0/EN
VERSION:2.0
CALSCALE:GREGORIAN
BEGIN:VEVENT
UID:45387c00296f1791a5f57a3f8ea86f30
DTSTAMP:20260420T223638Z
SUMMARY:JFS Soup for the Soul
DESCRIPTION:Jewish Federation of West-Central New Jersey\nCommunity Calenda
 r\nhttps://jfedwcnj.org/calendar/jfs-soup-for-the-soul-1502993998\n\nJFS S
 oup for the Soul
DTSTART;TZID=America/New_York:20171128T113000
DTEND;TZID=America/New_York:20171128T130000
END:VEVENT
END:VCALENDAR
