BEGIN:VCALENDAR
PRODID:-//eluceo/ical//2.0/EN
VERSION:2.0
CALSCALE:GREGORIAN
BEGIN:VEVENT
UID:48e59f66d027a0e71d4f758386d7fbd9
DTSTAMP:20260421T211940Z
SUMMARY:JFS March Madness and Tailgate
DESCRIPTION:Jewish Federation of West-Central New Jersey\nCommunity Calenda
 r\nhttps://jfedwcnj.org/calendar/jfs-march-madness-and-tailgate-1479134478
 \n\nJFS March Madness and Tailgate
DTSTART;TZID=America/New_York:20170401T190000
DTEND;TZID=America/New_York:20170401T230000
END:VEVENT
END:VCALENDAR
