BEGIN:VCALENDAR
PRODID:-//eluceo/ical//2.0/EN
VERSION:2.0
CALSCALE:GREGORIAN
BEGIN:VEVENT
UID:b8b8bad3ee16cb3f4365975c25e60eec
DTSTAMP:20260423T022456Z
SUMMARY:JFS Luncheon - The Margaret Lambert Story: An Olympian's Story
DESCRIPTION:Jewish Federation of West-Central New Jersey\nCommunity Calenda
 r\nhttps://jfedwcnj.org/calendar/jfs-luncheon---the-margaret-lambert-story
 -an-olympians-story-1502995199\n\nThe Margaret Lambert Story: An Olympian&
 rsquo\;s Story\nFilm and Q&amp\;A with Director/Producer Nina Horowitz
DTSTART;TZID=America/New_York:20180429T110000
DTEND;TZID=America/New_York:20180429T130000
END:VEVENT
END:VCALENDAR
