BEGIN:VCALENDAR
PRODID:-//eluceo/ical//2.0/EN
VERSION:2.0
CALSCALE:GREGORIAN
BEGIN:VEVENT
UID:c9e3f5cb02df6b15c8bcd15fc17785db
DTSTAMP:20260423T085715Z
SUMMARY:JFS Job Seekers Support Group
DESCRIPTION:Jewish Federation of West-Central New Jersey\nCommunity Calenda
 r\nhttps://jfedwcnj.org/calendar/jfs-job-seekers-support-group-1465237040\
 n\nJFS Job Seekers Support Group
DTSTART;TZID=America/New_York:20160706T190000
DTEND;TZID=America/New_York:20160706T210000
END:VEVENT
END:VCALENDAR
