BEGIN:VCALENDAR
PRODID:-//eluceo/ical//2.0/EN
VERSION:2.0
CALSCALE:GREGORIAN
BEGIN:VEVENT
UID:2bcd7d7893de7e10f0fa69483702916b
DTSTAMP:20260423T195443Z
SUMMARY:JFS Job Seekers Support Group
DESCRIPTION:Jewish Federation of West-Central New Jersey\nCommunity Calenda
 r\nhttps://jfedwcnj.org/calendar/jfs-job-seekers-support-group-1465235946\
 n\nJFS Job Seekers Support Group
DTSTART;TZID=America/New_York:20160616T100000
DTEND;TZID=America/New_York:20160616T120000
END:VEVENT
END:VCALENDAR
