BEGIN:VCALENDAR
PRODID:-//eluceo/ical//2.0/EN
VERSION:2.0
CALSCALE:GREGORIAN
BEGIN:VEVENT
UID:6b192af82480e5dcc9f05cb239a13df8
DTSTAMP:20260423T221501Z
SUMMARY:JFS Job Seekers Support Group
DESCRIPTION:Jewish Federation of West-Central New Jersey\nCommunity Calenda
 r\nhttps://jfedwcnj.org/calendar/jfs-job-seekers-support-group-1460389604\
 n\nJFS Job Seekers Support Group For Women only
DTSTART;TZID=America/New_York:20160512T100000
DTEND;TZID=America/New_York:20160512T120000
END:VEVENT
END:VCALENDAR
