BEGIN:VCALENDAR
PRODID:-//eluceo/ical//2.0/EN
VERSION:2.0
CALSCALE:GREGORIAN
BEGIN:VEVENT
UID:3dda27d5b6d84a72f7a2eed2f22131eb
DTSTAMP:20260421T113630Z
SUMMARY:JFS Job Seekers Support Group
DESCRIPTION:Jewish Federation of West-Central New Jersey\nCommunity Calenda
 r\nhttps://jfedwcnj.org/calendar/jfs-job-seekers-support-group-1457031875\
 n\nJFS Job Seekers Support Group
DTSTART;TZID=America/New_York:20160406T190000
DTEND;TZID=America/New_York:20160406T210000
END:VEVENT
END:VCALENDAR
