BEGIN:VCALENDAR
PRODID:-//eluceo/ical//2.0/EN
VERSION:2.0
CALSCALE:GREGORIAN
BEGIN:VEVENT
UID:ecd0fdd1b23dd59933c221c3aedcd5b8
DTSTAMP:20260421T173751Z
SUMMARY:JFS Job Seekers Support Group
DESCRIPTION:Jewish Federation of West-Central New Jersey\nCommunity Calenda
 r\nhttps://jfedwcnj.org/calendar/jfs-job-seekers-support-group-1449506963\
 n\nJFS Job Seekers Support Group
DTSTART;TZID=America/New_York:20160106T190000
DTEND;TZID=America/New_York:20160106T210000
END:VEVENT
END:VCALENDAR
