BEGIN:VCALENDAR
PRODID:-//eluceo/ical//2.0/EN
VERSION:2.0
CALSCALE:GREGORIAN
BEGIN:VEVENT
UID:67363bcec70fcff42608d28a9a2d665e
DTSTAMP:20260423T221728Z
SUMMARY:JFS Job Seekers Support Group
DESCRIPTION:Jewish Federation of West-Central New Jersey\nCommunity Calenda
 r\nhttps://jfedwcnj.org/calendar/jfs-job-seekers-support-group-1447081466\
 n\nJFS Job Seekers Support Group
DTSTART;TZID=America/New_York:20151202T190000
DTEND;TZID=America/New_York:20151202T210000
END:VEVENT
END:VCALENDAR
