BEGIN:VCALENDAR
PRODID:-//eluceo/ical//2.0/EN
VERSION:2.0
CALSCALE:GREGORIAN
BEGIN:VEVENT
UID:777c75bc3d04589caf41e6cedbf69571
DTSTAMP:20260421T055919Z
SUMMARY:JFS Job Seekers Support Group
DESCRIPTION:Jewish Federation of West-Central New Jersey\nCommunity Calenda
 r\nhttps://jfedwcnj.org/calendar/jfs-job-seekers-support-group-1441731795\
 n\nJFS Job Seekers Support Group
DTSTART;TZID=America/New_York:20151007T190000
DTEND;TZID=America/New_York:20151007T210000
END:VEVENT
END:VCALENDAR
