BEGIN:VCALENDAR
PRODID:-//eluceo/ical//2.0/EN
VERSION:2.0
CALSCALE:GREGORIAN
BEGIN:VEVENT
UID:fad8c5e3cf50cd31251a4d1acdbb4702
DTSTAMP:20260422T222343Z
SUMMARY:JFS Job Seekers Support Group
DESCRIPTION:Jewish Federation of West-Central New Jersey\nCommunity Calenda
 r\nhttps://jfedwcnj.org/calendar/jfs-job-seekers-support-group-1439222700\
 n\nJFS Job Seekers Support Group
DTSTART;TZID=America/New_York:20150902T190000
DTEND;TZID=America/New_York:20150902T210000
END:VEVENT
END:VCALENDAR
