BEGIN:VCALENDAR
PRODID:-//eluceo/ical//2.0/EN
VERSION:2.0
CALSCALE:GREGORIAN
BEGIN:VEVENT
UID:f4a45ef77a3e57e8c14056df0b45e1fe
DTSTAMP:20260421T070808Z
SUMMARY:JFS Job Seekers Support Group
DESCRIPTION:Jewish Federation of West-Central New Jersey\nCommunity Calenda
 r\nhttps://jfedwcnj.org/calendar/jfs-job-seekers-support-group-1435857146\
 n\nJFS Job Seekers Support Group
DTSTART;TZID=America/New_York:20150805T190000
DTEND;TZID=America/New_York:20150805T210000
END:VEVENT
END:VCALENDAR
