BEGIN:VCALENDAR
PRODID:-//eluceo/ical//2.0/EN
VERSION:2.0
CALSCALE:GREGORIAN
BEGIN:VEVENT
UID:2d50b5e219d0e96b466188cf54d06816
DTSTAMP:20260421T173722Z
SUMMARY:JFS Job Seekers Support Group
DESCRIPTION:Jewish Federation of West-Central New Jersey\nCommunity Calenda
 r\nhttps://jfedwcnj.org/calendar/jfs-job-seekers-support-group-1433180419\
 n\nJFS Job Seekers Support Group
DTSTART;TZID=America/New_York:20150701T190000
DTEND;TZID=America/New_York:20150701T210000
END:VEVENT
END:VCALENDAR
