BEGIN:VCALENDAR
PRODID:-//eluceo/ical//2.0/EN
VERSION:2.0
CALSCALE:GREGORIAN
BEGIN:VEVENT
UID:cffc16b975145bba2860d52ca5d7df87
DTSTAMP:20260421T032309Z
SUMMARY:JFS Job Seekers Support Group
DESCRIPTION:Jewish Federation of West-Central New Jersey\nCommunity Calenda
 r\nhttps://jfedwcnj.org/calendar/jfs-job-seekers-support-group-1425920958\
 n\nJFS Job Seekers Support Group
DTSTART;TZID=America/New_York:20150401T190000
DTEND;TZID=America/New_York:20150401T210000
END:VEVENT
END:VCALENDAR
