BEGIN:VCALENDAR
PRODID:-//eluceo/ical//2.0/EN
VERSION:2.0
CALSCALE:GREGORIAN
BEGIN:VEVENT
UID:6dfb1046a27d43fec79e06222bb299b1
DTSTAMP:20260421T004016Z
SUMMARY:JFS Job Seekers Support Group
DESCRIPTION:Jewish Federation of West-Central New Jersey\nCommunity Calenda
 r\nhttps://jfedwcnj.org/calendar/jfs-job-seekers-support-group-1421162484\
 n\nA Job Seeker Support Group for people that are unemployed or underemplo
 yed.  Meets at JFS\, 150 West High Street\, Somerville\, NJ.  Contact JFS 
 at 908-725-7799X108 or eprezant@JewishFamilySvc.org to register.  This pro
 gram is free of charge and open to the community.
DTSTART;TZID=America/New_York:20150204T190000
DTEND;TZID=America/New_York:20150204T210000
END:VEVENT
END:VCALENDAR
