BEGIN:VCALENDAR
PRODID:-//eluceo/ical//2.0/EN
VERSION:2.0
CALSCALE:GREGORIAN
BEGIN:VEVENT
UID:dc43213596cc0c7a7bc09f934ae09e26
DTSTAMP:20260423T055227Z
SUMMARY:JFS Job Seekers Support Group
DESCRIPTION:Jewish Federation of West-Central New Jersey\nCommunity Calenda
 r\nhttps://jfedwcnj.org/calendar/jfs-job-seekers-support-group-1412615711\
 n\nJFS Job Seekers Support Group
DTSTART;TZID=America/New_York:20141105T190000
DTEND;TZID=America/New_York:20141105T210000
END:VEVENT
END:VCALENDAR
