BEGIN:VCALENDAR
PRODID:-//eluceo/ical//2.0/EN
VERSION:2.0
CALSCALE:GREGORIAN
BEGIN:VEVENT
UID:fbf81399adbda3d428e23df0082247db
DTSTAMP:20260423T113016Z
SUMMARY:JFS Job Seekers Support Group
DESCRIPTION:Jewish Federation of West-Central New Jersey\nCommunity Calenda
 r\nhttps://jfedwcnj.org/calendar/jfs-job-seekers-support-group\n\nJFS Job 
 Seekers Support Group for individuals who are unemployed or underemployed.
  Meets at JFS\, 150 West High Street\, Somerville. Contact eprezant@Jewish
 FamilySvc.org or 908-725-7799 X108 to register.
DTSTART;TZID=America/New_York:20140903T190000
DTEND;TZID=America/New_York:20140903T210000
END:VEVENT
END:VCALENDAR
