BEGIN:VCALENDAR
PRODID:-//eluceo/ical//2.0/EN
VERSION:2.0
CALSCALE:GREGORIAN
BEGIN:VEVENT
UID:8cda882c7b6e8d66401013ee9b9ddca5
DTSTAMP:20260422T163152Z
SUMMARY:JFS Job Seekers Success Group
DESCRIPTION:Jewish Federation of West-Central New Jersey\nCommunity Calenda
 r\nhttps://jfedwcnj.org/calendar/jfs-job-seekers-success-group9419\n\n Je
 wish Family Service of Somerset\, Hunterdon and Warren Counties is offerin
 g a Job Seekers Success Group for active job seekers who are unemployed\, 
 underemployed or seeking a career change.  The next group will be held on
  Wednesday\, September 4\, 2019 from 7:00-9:00 p.m. at JFS\, 150-A West Hi
 gh Street\, Somerville\, NJ.\n\nThe topic for this session is “Preparing
  Yourself for the Employment Market as the Next Decade Approaches” prese
 nted by Harold Levin\, Staffing Manager\, SmartStaff Perso...
DTSTART;TZID=America/New_York:20190904T190000
DTEND;TZID=America/New_York:20190904T210000
END:VEVENT
END:VCALENDAR
