BEGIN:VCALENDAR
PRODID:-//eluceo/ical//2.0/EN
VERSION:2.0
CALSCALE:GREGORIAN
BEGIN:VEVENT
UID:91af6fe9afcefa780c84fd76c7547e7d
DTSTAMP:20260423T030312Z
SUMMARY:JFS Job Seekers Success Group
DESCRIPTION:Jewish Federation of West-Central New Jersey\nCommunity Calenda
 r\nhttps://jfedwcnj.org/calendar/jfs-job-seekers-success-group-july2023\n\
 n            Jewish Family Service of Somerset\, Hunterdon and 
 Warren Counties is offering a Job Seekers Success Group for active job see
 kers who are unemployed\, underemployed or seeking a career change.  The 
 next group will be held on Wednesday\, July 5\, 2023 from 7:00-9:00 p.m. v
 ia Zoom. The topic for this session is   “Answering All your Job Searc
 h Related Questions” presented by Elise Prezant\, JFS Program Manager of
  Career & Community Resources.\n\n \n\nThis group is offer...
DTSTART;TZID=America/New_York:20230705T190000
DTEND;TZID=America/New_York:20230705T210000
END:VEVENT
END:VCALENDAR
