BEGIN:VCALENDAR
PRODID:-//eluceo/ical//2.0/EN
VERSION:2.0
CALSCALE:GREGORIAN
BEGIN:VEVENT
UID:ef9fc563279a36b70376c322e594db12
DTSTAMP:20260421T151340Z
SUMMARY:JFS Job Seekers Success Group For Women Only
DESCRIPTION:Jewish Federation of West-Central New Jersey\nCommunity Calenda
 r\nhttps://jfedwcnj.org/calendar/jfs-job-seekers-success-group-for-women-o
 nly\n\nJFS\, in collaboration with Dress for Success is also offering a sp
 ecial Foundations of Success “For Women Only” Program on Friday\, Sept
 ember 20\, 2019 from 10:00 am – 12 noon at JFS\, 150-A West High Street\
 , Somerville\, NJ.\n\n \n\nThe topic is “Change your Mind” presented 
 by Jeanne Rohach\, Foundations of Success Workshops Coordinator. If a situ
 ation falls short of perfect\, do you think of it as a total failure?  Do
  you single out a single negative detail and dwell on it exclusively...
DTSTART;TZID=America/New_York:20190920T100000
DTEND;TZID=America/New_York:20190920T120000
END:VEVENT
END:VCALENDAR
