BEGIN:VCALENDAR
PRODID:-//eluceo/ical//2.0/EN
VERSION:2.0
CALSCALE:GREGORIAN
BEGIN:VEVENT
UID:363c99033ead14e6ffa6cd4ff7e3bc45
DTSTAMP:20260422T090146Z
SUMMARY:JFS Job Seekers Success Group
DESCRIPTION:Jewish Federation of West-Central New Jersey\nCommunity Calenda
 r\nhttps://jfedwcnj.org/calendar/jfs-job-seekers-success-group-1652279807\
 n\nJFS Job Seekers Success Group
DTSTART;TZID=America/New_York:20220706T190000
DTEND;TZID=America/New_York:20220706T210000
END:VEVENT
END:VCALENDAR
