BEGIN:VCALENDAR
PRODID:-//eluceo/ical//2.0/EN
VERSION:2.0
CALSCALE:GREGORIAN
BEGIN:VEVENT
UID:945929c4cf3c4fafeef8f744f4a75570
DTSTAMP:20260423T134448Z
SUMMARY:JFS Job Seekers Success Group
DESCRIPTION:Jewish Federation of West-Central New Jersey\nCommunity Calenda
 r\nhttps://jfedwcnj.org/calendar/jfs-job-seekers-success-group-1649699688\
 n\nJFS Job Seekers Success Group
DTSTART;TZID=America/New_York:20220504T190000
DTEND;TZID=America/New_York:20220504T210000
END:VEVENT
END:VCALENDAR
