BEGIN:VCALENDAR
PRODID:-//eluceo/ical//2.0/EN
VERSION:2.0
CALSCALE:GREGORIAN
BEGIN:VEVENT
UID:44379b5ecdbcbc1256cc7e0e612e0c9f
DTSTAMP:20260422T090227Z
SUMMARY:JFS Job Seekers Success Group
DESCRIPTION:Jewish Federation of West-Central New Jersey\nCommunity Calenda
 r\nhttps://jfedwcnj.org/calendar/jfs-job-seekers-success-group-1646334414\
 n\nJFS Job Seekers Success Group
DTSTART;TZID=America/New_York:20220406T190000
DTEND;TZID=America/New_York:20220406T210000
END:VEVENT
END:VCALENDAR
