BEGIN:VCALENDAR
PRODID:-//eluceo/ical//2.0/EN
VERSION:2.0
CALSCALE:GREGORIAN
BEGIN:VEVENT
UID:ed01b6e949cc863214f303906b644ede
DTSTAMP:20260421T214353Z
SUMMARY:JFS Job Seekers Success Group
DESCRIPTION:Jewish Federation of West-Central New Jersey\nCommunity Calenda
 r\nhttps://jfedwcnj.org/calendar/jfs-job-seekers-success-group-1643906581\
 n\nJFS Job Seekers Success Group
DTSTART;TZID=America/New_York:20220302T190000
DTEND;TZID=America/New_York:20220302T210000
END:VEVENT
END:VCALENDAR
