BEGIN:VCALENDAR
PRODID:-//eluceo/ical//2.0/EN
VERSION:2.0
CALSCALE:GREGORIAN
BEGIN:VEVENT
UID:e227efcac514cc76953c4b628abdde74
DTSTAMP:20260422T235747Z
SUMMARY:JFS Job Seekers Success Group
DESCRIPTION:Jewish Federation of West-Central New Jersey\nCommunity Calenda
 r\nhttps://jfedwcnj.org/calendar/jfs-job-seekers-success-group-1641838299\
 n\nJFS Job Seekers Success Group
DTSTART;TZID=America/New_York:20220202T190000
DTEND;TZID=America/New_York:20220202T210000
END:VEVENT
END:VCALENDAR
