BEGIN:VCALENDAR
PRODID:-//eluceo/ical//2.0/EN
VERSION:2.0
CALSCALE:GREGORIAN
BEGIN:VEVENT
UID:b4bb40018b8190dc50e5be42b4285ef0
DTSTAMP:20260424T064853Z
SUMMARY:JFS Job Seekers Success Group
DESCRIPTION:Jewish Federation of West-Central New Jersey\nCommunity Calenda
 r\nhttps://jfedwcnj.org/calendar/jfs-job-seekers-success-group-1617896276\
 n\nJFS Job Seekers Success Group
DTSTART;TZID=America/New_York:20210505T190000
DTEND;TZID=America/New_York:20210505T210000
END:VEVENT
END:VCALENDAR
