BEGIN:VCALENDAR
PRODID:-//eluceo/ical//2.0/EN
VERSION:2.0
CALSCALE:GREGORIAN
BEGIN:VEVENT
UID:e45fad66120cb178d742ac61caa61b68
DTSTAMP:20260423T145930Z
SUMMARY:JFS Job Seekers Success Group
DESCRIPTION:Jewish Federation of West-Central New Jersey\nCommunity Calenda
 r\nhttps://jfedwcnj.org/calendar/jfs-job-seekers-success-group-1607021129\
 n\nJFS Job Seekers Success Group
DTSTART;TZID=America/New_York:20210106T190000
DTEND;TZID=America/New_York:20210106T210000
END:VEVENT
END:VCALENDAR
