BEGIN:VCALENDAR
PRODID:-//eluceo/ical//2.0/EN
VERSION:2.0
CALSCALE:GREGORIAN
BEGIN:VEVENT
UID:c583f5ee697b0be5abc0ef917eb38a93
DTSTAMP:20260422T005341Z
SUMMARY:JFS Job Seekers Success Group
DESCRIPTION:Jewish Federation of West-Central New Jersey\nCommunity Calenda
 r\nhttps://jfedwcnj.org/calendar/jfs-job-seekers-success-group-1604602295\
 n\nJFS Job Seekers Success Group
DTSTART;TZID=America/New_York:20201202T190000
DTEND;TZID=America/New_York:20201202T210000
END:VEVENT
END:VCALENDAR
