BEGIN:VCALENDAR
PRODID:-//eluceo/ical//2.0/EN
VERSION:2.0
CALSCALE:GREGORIAN
BEGIN:VEVENT
UID:7ee9e5a83cdd26b8c733246a46a916c9
DTSTAMP:20260422T005037Z
SUMMARY:JFS Job Seekers Success Group
DESCRIPTION:Jewish Federation of West-Central New Jersey\nCommunity Calenda
 r\nhttps://jfedwcnj.org/calendar/jfs-job-seekers-success-group-1602165268\
 n\nJFS Job Seekers Success Group
DTSTART;TZID=America/New_York:20201104T190000
DTEND;TZID=America/New_York:20201104T210000
END:VEVENT
END:VCALENDAR
