BEGIN:VCALENDAR
PRODID:-//eluceo/ical//2.0/EN
VERSION:2.0
CALSCALE:GREGORIAN
BEGIN:VEVENT
UID:eb756dc29348aedc91d8295c5f9f55fd
DTSTAMP:20260422T120538Z
SUMMARY:JFS Job Seekers Success Group
DESCRIPTION:Jewish Federation of West-Central New Jersey\nCommunity Calenda
 r\nhttps://jfedwcnj.org/calendar/jfs-job-seekers-success-group-1599143294\
 n\nJFS Job Seekers Success Group
DTSTART;TZID=America/New_York:20201007T190000
DTEND;TZID=America/New_York:20201007T210000
END:VEVENT
END:VCALENDAR
