BEGIN:VCALENDAR
PRODID:-//eluceo/ical//2.0/EN
VERSION:2.0
CALSCALE:GREGORIAN
BEGIN:VEVENT
UID:42bfeeccdda5bb10f798f52ddf1212f6
DTSTAMP:20260422T084308Z
SUMMARY:JFS Job Seekers Success Group
DESCRIPTION:Jewish Federation of West-Central New Jersey\nCommunity Calenda
 r\nhttps://jfedwcnj.org/calendar/jfs-job-seekers-success-group-1586194671\
 n\nJewish Family Service of Somerset\, Hunterdon and Warren Counties is of
 fering a Job Seekers Success Group for active job seekers who are unemploy
 ed\, underemployed or seeking a career change. The next group will be held
  on Wednesday\, May 6\, 2020 from 7:00-9:00 p.m. This meeting has been cha
 nged to a virtual format via Zoom.\n\nThe topic for this session is “The
  Art of Effective Communication” presented by Jan Goodman\, Community Ou
 treach Specialist\, Greater Raritan One-Stop Career Center Tra...
DTSTART;TZID=America/New_York:20200506T190000
DTEND;TZID=America/New_York:20200506T210000
END:VEVENT
END:VCALENDAR
